BEGIN:VCALENDAR
VERSION:2.0
PRODID:-//Warwickshire Geological Conservation Group (WGCG) - ECPv6.15.20//NONSGML v1.0//EN
CALSCALE:GREGORIAN
METHOD:PUBLISH
X-ORIGINAL-URL:https://www.wgcg.co.uk
X-WR-CALDESC:Events for Warwickshire Geological Conservation Group (WGCG)
REFRESH-INTERVAL;VALUE=DURATION:PT1H
X-Robots-Tag:noindex
X-PUBLISHED-TTL:PT1H
BEGIN:VTIMEZONE
TZID:Europe/London
BEGIN:DAYLIGHT
TZOFFSETFROM:+0000
TZOFFSETTO:+0100
TZNAME:BST
DTSTART:20240331T010000
END:DAYLIGHT
BEGIN:STANDARD
TZOFFSETFROM:+0100
TZOFFSETTO:+0000
TZNAME:GMT
DTSTART:20241027T010000
END:STANDARD
BEGIN:DAYLIGHT
TZOFFSETFROM:+0000
TZOFFSETTO:+0100
TZNAME:BST
DTSTART:20250330T010000
END:DAYLIGHT
BEGIN:STANDARD
TZOFFSETFROM:+0100
TZOFFSETTO:+0000
TZNAME:GMT
DTSTART:20251026T010000
END:STANDARD
BEGIN:DAYLIGHT
TZOFFSETFROM:+0000
TZOFFSETTO:+0100
TZNAME:BST
DTSTART:20260329T010000
END:DAYLIGHT
BEGIN:STANDARD
TZOFFSETFROM:+0100
TZOFFSETTO:+0000
TZNAME:GMT
DTSTART:20261025T010000
END:STANDARD
END:VTIMEZONE
BEGIN:VEVENT
DTSTART;TZID=Europe/London:20250410T193000
DTEND;TZID=Europe/London:20250410T210000
DTSTAMP:20260420T085957
CREATED:20240313T095331Z
LAST-MODIFIED:20250325T093008Z
UID:59477-1744313400-1744318800@www.wgcg.co.uk
SUMMARY:The Triassic of Warwickshire - Joe Mazgajcyk & Kieren Quigley
DESCRIPTION:Kieren and Joe will provide an overview of part of the geological succession of the Triassic geology comprising the Helsby Sandstone Formation (Sherwood Sandstone Group) and the formations of the Mercia Mudstone Group relevant to the Warwickshire region. \n\n\n\nDuring the talk we will set the scene during the Triassic: \n\n\n\n\nGeological age\n\n\n\nHigh level depositional environments\n\n\n\nPresent day distribution\n\n\n\n\nProvide findings from recent field trips and cover the following information for the different formations: \n\n\n\n\nWhat does it look like?\n\n\n\nCharacterisation challenges\n\n\n\nKey ground-borne engineering hazards\n\n\n\n\nJoe graduated from University of Portsmouth with Geology BSc (2011) and Engineering Geology MSc (2012) and joined Mott MacDonald soon after in 2012. Joe is a senior geotechnical engineer at Mott MacDonald\, where he has gained extensive experience of geotechnical engineering\, engineering geology and contaminated land disciplines whilst working on projects such as Midland Metro\, A417 ‘missing link’ and most recently\, High Speed 2 (HS2) where he has worked on the design stages of the northern section of HS2 since 2018 and now supporting construction in Birmingham. Joe is Fellow of the Geological Society and a Chartered Geologist. \n\n\n\nKieren Quigley has worked for twelve years as an Engineering Geologist at Mott MacDonald primarily on hydropower\, nuclear\, and rail infrastructure projects with expertise in slope stability and tunnelling. Over the last five years\, Kieren has studied the geomechanical properties of the Mercia Mudstone Group and other Triassic geologies for HS2 and as a potential host rock for deep disposal of nuclear waste. These studies included experimental swelling tests undertaken with the British Geological Survey and field trips to Triassic coastal exposures in Devon and Somerset.  \n\n\n\nKieren (left) and Joe (right) examining an exposure of the Branscombe mudstone formation on the South Coast of England\n\n\n\nClick here for event flyer \n\n\n\nRegister in advance to attend virtually: https://us02web.zoom.us/meeting/register/tZMocumqqzopG9HD3waV-oVESjjW1dFqXQIV \n\n\n\nVenue:St Francis Of Assisi RC Church\, 110 Warwick Rd\, Kenilworth CV8 1HLhttps://maps.app.goo.gl/9CGWRNdgFfttDKtd7
URL:https://www.wgcg.co.uk/event/the-triassic-of-warwickshire-joe-mazgajcyk-kieren-quigley/
END:VEVENT
END:VCALENDAR