BEGIN:VCALENDAR
VERSION:2.0
PRODID:-//Warwickshire Geological Conservation Group (WGCG) - ECPv6.15.20//NONSGML v1.0//EN
CALSCALE:GREGORIAN
METHOD:PUBLISH
X-WR-CALNAME:Warwickshire Geological Conservation Group (WGCG)
X-ORIGINAL-URL:https://www.wgcg.co.uk
X-WR-CALDESC:Events for Warwickshire Geological Conservation Group (WGCG)
REFRESH-INTERVAL;VALUE=DURATION:PT1H
X-Robots-Tag:noindex
X-PUBLISHED-TTL:PT1H
BEGIN:VTIMEZONE
TZID:Europe/London
BEGIN:DAYLIGHT
TZOFFSETFROM:+0000
TZOFFSETTO:+0100
TZNAME:BST
DTSTART:20220327T010000
END:DAYLIGHT
BEGIN:STANDARD
TZOFFSETFROM:+0100
TZOFFSETTO:+0000
TZNAME:GMT
DTSTART:20221030T010000
END:STANDARD
BEGIN:DAYLIGHT
TZOFFSETFROM:+0000
TZOFFSETTO:+0100
TZNAME:BST
DTSTART:20230326T010000
END:DAYLIGHT
BEGIN:STANDARD
TZOFFSETFROM:+0100
TZOFFSETTO:+0000
TZNAME:GMT
DTSTART:20231029T010000
END:STANDARD
BEGIN:DAYLIGHT
TZOFFSETFROM:+0000
TZOFFSETTO:+0100
TZNAME:BST
DTSTART:20240331T010000
END:DAYLIGHT
BEGIN:STANDARD
TZOFFSETFROM:+0100
TZOFFSETTO:+0000
TZNAME:GMT
DTSTART:20241027T010000
END:STANDARD
END:VTIMEZONE
BEGIN:VEVENT
DTSTART;TZID=Europe/London:20231014T100000
DTEND;TZID=Europe/London:20231014T150000
DTSTAMP:20260423T153804
CREATED:20230730T161415Z
LAST-MODIFIED:20230918T135229Z
UID:45247-1697277600-1697295600@www.wgcg.co.uk
SUMMARY:Geo Conservation: Kenilworth Cutting / Greenway
DESCRIPTION:Join our team of volunteers in a clearence session of our LGS exposure in Kenilworth Cutting. This is one of the very few exposures of the Permian Kenilworth sandstone\, an important site for geological education. A major benefit of participating in clearance sessions is that you get to examine details within the outcrop that may be overlooked in a simple visit\, and you have the opportunity to discuss your obdervations with others. Come along for 1 hour or the full session. This event is open to members and none members. For more details download the event flier. Contact warwickshiregcg@gmail.com to express interest. \n\n\n\nCurrent state of the exposure July 2023\n\n\n\nThe exposure is on the Kenilworth Greenway just to the NW of the A429
URL:https://www.wgcg.co.uk/event/geo-conservation-kenilworth-cutting-greenway/
END:VEVENT
END:VCALENDAR