BEGIN:VCALENDAR
VERSION:2.0
PRODID:-//Warwickshire Geological Conservation Group (WGCG) - ECPv6.15.20//NONSGML v1.0//EN
CALSCALE:GREGORIAN
METHOD:PUBLISH
X-ORIGINAL-URL:https://www.wgcg.co.uk
X-WR-CALDESC:Events for Warwickshire Geological Conservation Group (WGCG)
REFRESH-INTERVAL;VALUE=DURATION:PT1H
X-Robots-Tag:noindex
X-PUBLISHED-TTL:PT1H
BEGIN:VTIMEZONE
TZID:Europe/London
BEGIN:DAYLIGHT
TZOFFSETFROM:+0000
TZOFFSETTO:+0100
TZNAME:BST
DTSTART:20230326T010000
END:DAYLIGHT
BEGIN:STANDARD
TZOFFSETFROM:+0100
TZOFFSETTO:+0000
TZNAME:GMT
DTSTART:20231029T010000
END:STANDARD
BEGIN:DAYLIGHT
TZOFFSETFROM:+0000
TZOFFSETTO:+0100
TZNAME:BST
DTSTART:20240331T010000
END:DAYLIGHT
BEGIN:STANDARD
TZOFFSETFROM:+0100
TZOFFSETTO:+0000
TZNAME:GMT
DTSTART:20241027T010000
END:STANDARD
BEGIN:DAYLIGHT
TZOFFSETFROM:+0000
TZOFFSETTO:+0100
TZNAME:BST
DTSTART:20250330T010000
END:DAYLIGHT
BEGIN:STANDARD
TZOFFSETFROM:+0100
TZOFFSETTO:+0000
TZNAME:GMT
DTSTART:20251026T010000
END:STANDARD
END:VTIMEZONE
BEGIN:VEVENT
DTSTART;TZID=Europe/London:20240428T110000
DTEND;TZID=Europe/London:20240428T150000
DTSTAMP:20260423T052733
CREATED:20240216T171532Z
LAST-MODIFIED:20240428T195522Z
UID:57587-1714302000-1714316400@www.wgcg.co.uk
SUMMARY:Kenilworth Cutting Field Visit - Ray Pratt
DESCRIPTION:Ray Pratt will lead a field outing\, around the Kenilworth area\, visiting 3 sites exposing early Permian rocks\, each of which is designated as a Local Geological Site (LGS). We plan to start at 11:00 hrs with an examination of the recently cleared exposure at Kenilworth Cutting on Kenilworth Greenway (LGS 97). Here we will debate the depositional environment and its probable age. We will discuss the depositional environment here in relation to time equivalent deposits to the North\, East and West. Street parking will be necessary so please allow sufficient time to locate a parking spot and walk to the exposure for 11am. \n\n\n\nThe second site to visit  Kings Hill Nurseries (LGS 94). We anticipate being at the second location at about 12:30 to 13:00 hrs. \n\n\n\nThe 3rd and final location to be visited is Ashow (LGS 27). We expect to arrive here about 14:00-14:30. This is private property for which we have permission to visit. Ashow is a small hamlet with narrow country roads so parking will be a bit of a challenge. Car sharing would be helpful. Participants are not obliged to go to all 3 sites and can choose which they visit. The discussion regarding the paleogeographic setting and geological uncertainty will take place at Kenilworth Cutting. \n\n\n\nSite locations and geological descriptions can be found for each Local Geological Site (LGS) on our website.https://www.wgcg.co.uk/lgs/logs-list/ \n\n\n\nDownload the field Trip Guide \n\n\n\nThere is no limit on participants however you are asked to pre register for this event if possible by sending an email to warwickshiregcg@gmail.com.
URL:https://www.wgcg.co.uk/event/kenilworth-cutting-field-visit/
CATEGORIES:Field Trip
ORGANIZER;CN="Warwickshire Geological Conservation Group (WGCG)":MAILTO:warwickshiregcg@gmail.com
END:VEVENT
END:VCALENDAR