BEGIN:VCALENDAR
VERSION:2.0
PRODID:-//Warwickshire Geological Conservation Group (WGCG) - ECPv6.15.20//NONSGML v1.0//EN
CALSCALE:GREGORIAN
METHOD:PUBLISH
X-ORIGINAL-URL:https://www.wgcg.co.uk
X-WR-CALDESC:Events for Warwickshire Geological Conservation Group (WGCG)
REFRESH-INTERVAL;VALUE=DURATION:PT1H
X-Robots-Tag:noindex
X-PUBLISHED-TTL:PT1H
BEGIN:VTIMEZONE
TZID:Europe/London
BEGIN:DAYLIGHT
TZOFFSETFROM:+0000
TZOFFSETTO:+0100
TZNAME:BST
DTSTART:20230326T010000
END:DAYLIGHT
BEGIN:STANDARD
TZOFFSETFROM:+0100
TZOFFSETTO:+0000
TZNAME:GMT
DTSTART:20231029T010000
END:STANDARD
BEGIN:DAYLIGHT
TZOFFSETFROM:+0000
TZOFFSETTO:+0100
TZNAME:BST
DTSTART:20240331T010000
END:DAYLIGHT
BEGIN:STANDARD
TZOFFSETFROM:+0100
TZOFFSETTO:+0000
TZNAME:GMT
DTSTART:20241027T010000
END:STANDARD
BEGIN:DAYLIGHT
TZOFFSETFROM:+0000
TZOFFSETTO:+0100
TZNAME:BST
DTSTART:20250330T010000
END:DAYLIGHT
BEGIN:STANDARD
TZOFFSETFROM:+0100
TZOFFSETTO:+0000
TZNAME:GMT
DTSTART:20251026T010000
END:STANDARD
END:VTIMEZONE
BEGIN:VEVENT
DTSTART;TZID=Europe/London:20240528T133000
DTEND;TZID=Europe/London:20240528T150000
DTSTAMP:20260423T020718
CREATED:20240502T085827Z
LAST-MODIFIED:20240521T094858Z
UID:64256-1716903000-1716908400@www.wgcg.co.uk
SUMMARY:A science walk and talk along Kenilworth Common
DESCRIPTION:GeoWeek / Nature Week Event: This event will discuss the geology along the Greenway of Kenilworth Common\, discussing the links between geology\, pedology\, hydrogeology and biodiversity. Evidence for environmental change through geological time will be examined. The walk will terminate at Kenilworth Cutting where we will inspect a geological exposure where we will discuss its origins and significance. We will meet at the Forge Road (CV8 2HR) entrance of the Greenway at 13:15 hours for a 13:30 start. Under 16s must be accompanied by an adult. Registration required. \n\n\n\nWGCG members undertake some maintenance and clearance work of Kenilworth Cutting October 2023
URL:https://www.wgcg.co.uk/event/a-science-walk-and-talk-along-kenilworth-common/
LOCATION:Forge Road\, Kenilworth\, CV8 2HR\, Forge Road\, Kenilworth\, Warwickshire\, CV8 2HR
END:VEVENT
END:VCALENDAR