BEGIN:VCALENDAR
VERSION:2.0
PRODID:-//Warwickshire Geological Conservation Group (WGCG) - ECPv6.15.20//NONSGML v1.0//EN
CALSCALE:GREGORIAN
METHOD:PUBLISH
X-WR-CALNAME:Warwickshire Geological Conservation Group (WGCG)
X-ORIGINAL-URL:https://www.wgcg.co.uk
X-WR-CALDESC:Events for Warwickshire Geological Conservation Group (WGCG)
REFRESH-INTERVAL;VALUE=DURATION:PT1H
X-Robots-Tag:noindex
X-PUBLISHED-TTL:PT1H
BEGIN:VTIMEZONE
TZID:Europe/London
BEGIN:DAYLIGHT
TZOFFSETFROM:+0000
TZOFFSETTO:+0100
TZNAME:BST
DTSTART:20210328T010000
END:DAYLIGHT
BEGIN:STANDARD
TZOFFSETFROM:+0100
TZOFFSETTO:+0000
TZNAME:GMT
DTSTART:20211031T010000
END:STANDARD
BEGIN:DAYLIGHT
TZOFFSETFROM:+0000
TZOFFSETTO:+0100
TZNAME:BST
DTSTART:20220327T010000
END:DAYLIGHT
BEGIN:STANDARD
TZOFFSETFROM:+0100
TZOFFSETTO:+0000
TZNAME:GMT
DTSTART:20221030T010000
END:STANDARD
BEGIN:DAYLIGHT
TZOFFSETFROM:+0000
TZOFFSETTO:+0100
TZNAME:BST
DTSTART:20230326T010000
END:DAYLIGHT
BEGIN:STANDARD
TZOFFSETFROM:+0100
TZOFFSETTO:+0000
TZNAME:GMT
DTSTART:20231029T010000
END:STANDARD
END:VTIMEZONE
BEGIN:VEVENT
DTSTART;TZID=Europe/London:20221117T193000
DTEND;TZID=Europe/London:20221117T210000
DTSTAMP:20260424T092241
CREATED:20220728T220711Z
LAST-MODIFIED:20221104T204155Z
UID:30543-1668713400-1668718800@www.wgcg.co.uk
SUMMARY:Talk: The NW Highlands controversy: Geology\, geologists and social climbing in Victorian times. Talk by Dr Peter Gutteridge
DESCRIPTION:The NW Highlands of Scotland probably has the best scenery and geology in the world. You can find the oldest rocks in the British Isles\, the first evidence of life\, ancient landscapes carved out by preCambrian rivers and beautifully exposed Lower Palaeozoic clastic and carbonate sediments. \n\n\n\nThese all form part of a major fold and thrust belt on which the metamorphosed Moine schists were emplaced. \n\n\n\nHowever\, geologist Roderick Impy Murchison saw this as a conformable succession. It is worth asking the question\, why did Victorian geologists so completely miss evidence that is so obvious to geologists today? \n\n\n\nThe answers lie in the state of geological science at the time\, geopolitics and social climbing. Resolution of the Moine thrust controversy was a turning point in the history of geology gave us the foundations of the science of geology as we now know it. \n\n\n\nView the promotional video for this talk \n\n\n\nBiography: As a carbonate sedimentologist Dr Gutteridge has worked on carbonate systems from all parts of the geological column throughout the world. He did his first degree at Leeds\, which had a strong structural emphasis at that time. This included numerous lectures and field trips to NW Scotland\, particularly to the Moine thrust. Dr Gutteridge has been back there many times since and this lecture offers a new perspective on an old controversy. \n\n\n\nThe talk will be given live at St Francis of Assisi in Kenilwoth.  Members and guests are encouraged to attend in person if possible. Registration is not required and there is plenty of free car parking available at the venue. \n\n\n\nWe will attempt to transmit this talk live over Zoom to those who are unable to attend the venue. Zoom participants must register in advance using the following link;   \n\n\n\nhttps://us02web.zoom.us/meeting/register/tZwkc-ygrTosHN1ORd5Zkt_eWbPyrTqnUoEm 
URL:https://www.wgcg.co.uk/event/evening-lecture-3/
LOCATION:St Francis\, 110 Warwick Rd\, Kenilworth\, CV8 1HL
CATEGORIES:Talk
END:VEVENT
END:VCALENDAR