BEGIN:VCALENDAR
VERSION:2.0
PRODID:-//Warwickshire Geological Conservation Group (WGCG) - ECPv6.15.20//NONSGML v1.0//EN
CALSCALE:GREGORIAN
METHOD:PUBLISH
X-WR-CALNAME:Warwickshire Geological Conservation Group (WGCG)
X-ORIGINAL-URL:https://www.wgcg.co.uk
X-WR-CALDESC:Events for Warwickshire Geological Conservation Group (WGCG)
REFRESH-INTERVAL;VALUE=DURATION:PT1H
X-Robots-Tag:noindex
X-PUBLISHED-TTL:PT1H
BEGIN:VTIMEZONE
TZID:Europe/London
BEGIN:DAYLIGHT
TZOFFSETFROM:+0000
TZOFFSETTO:+0100
TZNAME:BST
DTSTART:20230326T010000
END:DAYLIGHT
BEGIN:STANDARD
TZOFFSETFROM:+0100
TZOFFSETTO:+0000
TZNAME:GMT
DTSTART:20231029T010000
END:STANDARD
BEGIN:DAYLIGHT
TZOFFSETFROM:+0000
TZOFFSETTO:+0100
TZNAME:BST
DTSTART:20240331T010000
END:DAYLIGHT
BEGIN:STANDARD
TZOFFSETFROM:+0100
TZOFFSETTO:+0000
TZNAME:GMT
DTSTART:20241027T010000
END:STANDARD
BEGIN:DAYLIGHT
TZOFFSETFROM:+0000
TZOFFSETTO:+0100
TZNAME:BST
DTSTART:20250330T010000
END:DAYLIGHT
BEGIN:STANDARD
TZOFFSETFROM:+0100
TZOFFSETTO:+0000
TZNAME:GMT
DTSTART:20251026T010000
END:STANDARD
END:VTIMEZONE
BEGIN:VEVENT
DTSTART;TZID=Europe/London:20240601T103000
DTEND;TZID=Europe/London:20240601T123000
DTSTAMP:20260423T015000
CREATED:20240131T173330Z
LAST-MODIFIED:20240405T203039Z
UID:56989-1717237800-1717245000@www.wgcg.co.uk
SUMMARY:Ask a Geologist
DESCRIPTION:Members of the public are invited to come and engage with WGCG geologists to discuss anything geologically of interest to them. We will have a number of samples and teaching material availabl. Visitors are encouraged to bring along any samples they wish to discuss.
URL:https://www.wgcg.co.uk/event/ask-a-geologist-2/
LOCATION:Warwick Museum\, Market Place\, Warwick\, CV34 4SA
ORGANIZER;CN="Warwickshire Geological Conservation Group (WGCG)":MAILTO:warwickshiregcg@gmail.com
END:VEVENT
END:VCALENDAR