BEGIN:VCALENDAR
VERSION:2.0
PRODID:-//Warwickshire Geological Conservation Group (WGCG) - ECPv6.15.20//NONSGML v1.0//EN
CALSCALE:GREGORIAN
METHOD:PUBLISH
X-ORIGINAL-URL:https://www.wgcg.co.uk
X-WR-CALDESC:Events for Warwickshire Geological Conservation Group (WGCG)
REFRESH-INTERVAL;VALUE=DURATION:PT1H
X-Robots-Tag:noindex
X-PUBLISHED-TTL:PT1H
BEGIN:VTIMEZONE
TZID:Europe/London
BEGIN:DAYLIGHT
TZOFFSETFROM:+0000
TZOFFSETTO:+0100
TZNAME:BST
DTSTART:20230326T010000
END:DAYLIGHT
BEGIN:STANDARD
TZOFFSETFROM:+0100
TZOFFSETTO:+0000
TZNAME:GMT
DTSTART:20231029T010000
END:STANDARD
BEGIN:DAYLIGHT
TZOFFSETFROM:+0000
TZOFFSETTO:+0100
TZNAME:BST
DTSTART:20240331T010000
END:DAYLIGHT
BEGIN:STANDARD
TZOFFSETFROM:+0100
TZOFFSETTO:+0000
TZNAME:GMT
DTSTART:20241027T010000
END:STANDARD
BEGIN:DAYLIGHT
TZOFFSETFROM:+0000
TZOFFSETTO:+0100
TZNAME:BST
DTSTART:20250330T010000
END:DAYLIGHT
BEGIN:STANDARD
TZOFFSETFROM:+0100
TZOFFSETTO:+0000
TZNAME:GMT
DTSTART:20251026T010000
END:STANDARD
END:VTIMEZONE
BEGIN:VEVENT
DTSTART;TZID=Europe/London:20240705T130000
DTEND;TZID=Europe/London:20240707T170000
DTSTAMP:20260423T002225
CREATED:20240216T171203Z
LAST-MODIFIED:20240312T113116Z
UID:57576-1720184400-1720371600@www.wgcg.co.uk
SUMMARY:Castleton (Peak District) Field Trip - Martin Whiteley
DESCRIPTION:Discounted rates have been agreed at the Bike and Boots inn located in Hope Valley for participants not wishing to arrange their own accommodation. Full details to follow. \n\n\n\nPhoto by Ian Fenwick
URL:https://www.wgcg.co.uk/event/derbyshire-field-trip/
ORGANIZER;CN="Warwickshire Geological Conservation Group (WGCG)":MAILTO:warwickshiregcg@gmail.com
END:VEVENT
BEGIN:VEVENT
DTSTART;TZID=Europe/London:20240728T140000
DTEND;TZID=Europe/London:20240728T140000
DTSTAMP:20260423T002225
CREATED:20240216T171735Z
LAST-MODIFIED:20240603T074046Z
UID:57591-1722175200-1722175200@www.wgcg.co.uk
SUMMARY:Tardebigge reservoir circular walk (near Bromsgrove) - Mike Allen
DESCRIPTION:Joint field trip with BCGS.  \n\n\n\nPlease arrive a little earlier if you wish to attend a picnic beforehand which is to be arranged by Mike Allen (weather dependant).  \n\n\n\nDetails to follow.
URL:https://www.wgcg.co.uk/event/bromsgrove-field-excursion-mike-allen/
ORGANIZER;CN="Warwickshire Geological Conservation Group (WGCG)":MAILTO:warwickshiregcg@gmail.com
END:VEVENT
END:VCALENDAR