BEGIN:VCALENDAR
VERSION:2.0
PRODID:-//Warwickshire Geological Conservation Group (WGCG) - ECPv6.15.20//NONSGML v1.0//EN
CALSCALE:GREGORIAN
METHOD:PUBLISH
X-ORIGINAL-URL:https://www.wgcg.co.uk
X-WR-CALDESC:Events for Warwickshire Geological Conservation Group (WGCG)
REFRESH-INTERVAL;VALUE=DURATION:PT1H
X-Robots-Tag:noindex
X-PUBLISHED-TTL:PT1H
BEGIN:VTIMEZONE
TZID:Europe/London
BEGIN:DAYLIGHT
TZOFFSETFROM:+0000
TZOFFSETTO:+0100
TZNAME:BST
DTSTART:20230326T010000
END:DAYLIGHT
BEGIN:STANDARD
TZOFFSETFROM:+0100
TZOFFSETTO:+0000
TZNAME:GMT
DTSTART:20231029T010000
END:STANDARD
BEGIN:DAYLIGHT
TZOFFSETFROM:+0000
TZOFFSETTO:+0100
TZNAME:BST
DTSTART:20240331T010000
END:DAYLIGHT
BEGIN:STANDARD
TZOFFSETFROM:+0100
TZOFFSETTO:+0000
TZNAME:GMT
DTSTART:20241027T010000
END:STANDARD
BEGIN:DAYLIGHT
TZOFFSETFROM:+0000
TZOFFSETTO:+0100
TZNAME:BST
DTSTART:20250330T010000
END:DAYLIGHT
BEGIN:STANDARD
TZOFFSETFROM:+0100
TZOFFSETTO:+0000
TZNAME:GMT
DTSTART:20251026T010000
END:STANDARD
END:VTIMEZONE
BEGIN:VEVENT
DTSTART;TZID=Europe/London:20241121T193000
DTEND;TZID=Europe/London:20241121T210000
DTSTAMP:20260422T180149
CREATED:20240313T094654Z
LAST-MODIFIED:20241103T210704Z
UID:59465-1732217400-1732222800@www.wgcg.co.uk
SUMMARY:AGM
DESCRIPTION:AGM Evening (Members only) \n\n\n\nAgenda and voting• Welcome Chair• Apologies received Chair• Minutes of the 2023 AGM Chair• Chairman’s report (TAR) Chair• Finance report Treasurer• Trustee nominations received Secretary• Members Questions / Suggestions Members / Secretary• Collate Ballot / Results Secretary• Nominations for awards Secretary \n\n\n\nMembers are reminded to bring their voting slips along if they have not voted by email. \n\n\n\nThe AGM will be followed by presentations by \n\n\n\n• Brian Ellis• Mike Allen (display of specimens)• Ray Pratt
URL:https://www.wgcg.co.uk/event/agm-3/
END:VEVENT
END:VCALENDAR