BEGIN:VCALENDAR
VERSION:2.0
PRODID:-//Warwickshire Geological Conservation Group (WGCG) - ECPv6.15.20//NONSGML v1.0//EN
CALSCALE:GREGORIAN
METHOD:PUBLISH
X-ORIGINAL-URL:https://www.wgcg.co.uk
X-WR-CALDESC:Events for Warwickshire Geological Conservation Group (WGCG)
REFRESH-INTERVAL;VALUE=DURATION:PT1H
X-Robots-Tag:noindex
X-PUBLISHED-TTL:PT1H
BEGIN:VTIMEZONE
TZID:Europe/London
BEGIN:DAYLIGHT
TZOFFSETFROM:+0000
TZOFFSETTO:+0100
TZNAME:BST
DTSTART:20230326T010000
END:DAYLIGHT
BEGIN:STANDARD
TZOFFSETFROM:+0100
TZOFFSETTO:+0000
TZNAME:GMT
DTSTART:20231029T010000
END:STANDARD
BEGIN:DAYLIGHT
TZOFFSETFROM:+0000
TZOFFSETTO:+0100
TZNAME:BST
DTSTART:20240331T010000
END:DAYLIGHT
BEGIN:STANDARD
TZOFFSETFROM:+0100
TZOFFSETTO:+0000
TZNAME:GMT
DTSTART:20241027T010000
END:STANDARD
BEGIN:DAYLIGHT
TZOFFSETFROM:+0000
TZOFFSETTO:+0100
TZNAME:BST
DTSTART:20250330T010000
END:DAYLIGHT
BEGIN:STANDARD
TZOFFSETFROM:+0100
TZOFFSETTO:+0000
TZNAME:GMT
DTSTART:20251026T010000
END:STANDARD
END:VTIMEZONE
BEGIN:VEVENT
DTSTART;TZID=Europe/London:20241212T193000
DTEND;TZID=Europe/London:20241212T210000
DTSTAMP:20260422T161949
CREATED:20240313T094827Z
LAST-MODIFIED:20241202T222638Z
UID:59469-1734031800-1734037200@www.wgcg.co.uk
SUMMARY:Christmas Social
DESCRIPTION:The next evening meeting of Warwickshire Geological Conservation Group will be the Christmas Social on Thursday 12th December at St Francis’ Church Hall\, Warwick Road\, Kenilworth at 7.30pm. \n\n\n\nThere will be a quiz and a short presentation from a local artist. And there will be plenty of time to socialise. \n\n\n\nIt is hoped that members can share refreshments – if you are able\, please bring a plate of food to contribute to the buffet table. \n\n\n\nMulled wine and soft drinks will be provided. \n\n\n\nMerry Christmas!
URL:https://www.wgcg.co.uk/event/christmas-social/
END:VEVENT
END:VCALENDAR