BEGIN:VCALENDAR
VERSION:2.0
PRODID:-//Warwickshire Geological Conservation Group (WGCG) - ECPv6.15.20//NONSGML v1.0//EN
CALSCALE:GREGORIAN
METHOD:PUBLISH
X-WR-CALNAME:Warwickshire Geological Conservation Group (WGCG)
X-ORIGINAL-URL:https://www.wgcg.co.uk
X-WR-CALDESC:Events for Warwickshire Geological Conservation Group (WGCG)
REFRESH-INTERVAL;VALUE=DURATION:PT1H
X-Robots-Tag:noindex
X-PUBLISHED-TTL:PT1H
BEGIN:VTIMEZONE
TZID:Europe/London
BEGIN:DAYLIGHT
TZOFFSETFROM:+0000
TZOFFSETTO:+0100
TZNAME:BST
DTSTART:20220327T010000
END:DAYLIGHT
BEGIN:STANDARD
TZOFFSETFROM:+0100
TZOFFSETTO:+0000
TZNAME:GMT
DTSTART:20221030T010000
END:STANDARD
BEGIN:DAYLIGHT
TZOFFSETFROM:+0000
TZOFFSETTO:+0100
TZNAME:BST
DTSTART:20230326T010000
END:DAYLIGHT
BEGIN:STANDARD
TZOFFSETFROM:+0100
TZOFFSETTO:+0000
TZNAME:GMT
DTSTART:20231029T010000
END:STANDARD
BEGIN:DAYLIGHT
TZOFFSETFROM:+0000
TZOFFSETTO:+0100
TZNAME:BST
DTSTART:20240331T010000
END:DAYLIGHT
BEGIN:STANDARD
TZOFFSETFROM:+0100
TZOFFSETTO:+0000
TZNAME:GMT
DTSTART:20241027T010000
END:STANDARD
END:VTIMEZONE
BEGIN:VEVENT
DTSTART;TZID=Europe/London:20230527T100000
DTEND;TZID=Europe/London:20230527T160000
DTSTAMP:20260424T005644
CREATED:20230501T112721Z
LAST-MODIFIED:20230501T115624Z
UID:40650-1685181600-1685203200@www.wgcg.co.uk
SUMMARY:WGCG Public Engagement Stall
DESCRIPTION:As part of Kenilworth Nature Week an Geo-Week activities\, WGCG will have a stall in Talisman Square\, Kenilworth. The aim is to engage with the general public on the importance of geology in their daily lives. We will have a selected number of specimens available  to help engage with the public and lots of brochures to hand out.  Come along and say hi.
URL:https://www.wgcg.co.uk/event/wgcg-public-engagement-stall/
LOCATION:Talisman square Kenilworth\, Talisman Square\, Kenilworth
END:VEVENT
END:VCALENDAR