BEGIN:VCALENDAR
VERSION:2.0
PRODID:-//Warwickshire Geological Conservation Group (WGCG) - ECPv6.15.20//NONSGML v1.0//EN
CALSCALE:GREGORIAN
METHOD:PUBLISH
X-ORIGINAL-URL:https://www.wgcg.co.uk
X-WR-CALDESC:Events for Warwickshire Geological Conservation Group (WGCG)
REFRESH-INTERVAL;VALUE=DURATION:PT1H
X-Robots-Tag:noindex
X-PUBLISHED-TTL:PT1H
BEGIN:VTIMEZONE
TZID:Europe/London
BEGIN:DAYLIGHT
TZOFFSETFROM:+0000
TZOFFSETTO:+0100
TZNAME:BST
DTSTART:20220327T010000
END:DAYLIGHT
BEGIN:STANDARD
TZOFFSETFROM:+0100
TZOFFSETTO:+0000
TZNAME:GMT
DTSTART:20221030T010000
END:STANDARD
BEGIN:DAYLIGHT
TZOFFSETFROM:+0000
TZOFFSETTO:+0100
TZNAME:BST
DTSTART:20230326T010000
END:DAYLIGHT
BEGIN:STANDARD
TZOFFSETFROM:+0100
TZOFFSETTO:+0000
TZNAME:GMT
DTSTART:20231029T010000
END:STANDARD
BEGIN:DAYLIGHT
TZOFFSETFROM:+0000
TZOFFSETTO:+0100
TZNAME:BST
DTSTART:20240331T010000
END:DAYLIGHT
BEGIN:STANDARD
TZOFFSETFROM:+0100
TZOFFSETTO:+0000
TZNAME:GMT
DTSTART:20241027T010000
END:STANDARD
END:VTIMEZONE
BEGIN:VEVENT
DTSTART;TZID=Europe/London:20230602T103000
DTEND;TZID=Europe/London:20230602T123000
DTSTAMP:20260423T231410
CREATED:20230222T094208Z
LAST-MODIFIED:20230223T083407Z
UID:37329-1685701800-1685709000@www.wgcg.co.uk
SUMMARY:An urban geology walk around Warwick
DESCRIPTION:Jon Radley will lead a walk around Warwick starting and finishing at the entrance to the Market Hall Museum. The tour will focus on Warwick’s building stones with emphasis on the locally sourced examples and what they can tell us about ancient Warwickshire. \n\n\n\nThe length of the walk will be approximately 1-2 miles. Participants are encouraged to have a look around the museum afterwards to see examples of some of the rocks and fossils that will be discussing on the walk.  \n\n\n\nThe walk will be limited to 10 participants. (Please note that this walk will be repeated Friday 13th October 2023). To register for this walk please contact Julie Harrald WGCG@JEGH.me.uk  \n\n\n\nMarket Place Warwick\n\n\n\nThe walk is part of GeoWeek (27th May to 4th June) and that people can look up other activities across the UK at the GeoWeek website
URL:https://www.wgcg.co.uk/event/an-urban-geology-walk-around-warwick/
CATEGORIES:Field Trip
END:VEVENT
END:VCALENDAR