BEGIN:VCALENDAR
VERSION:2.0
PRODID:-//Warwickshire Geological Conservation Group (WGCG) - ECPv6.15.20//NONSGML v1.0//EN
CALSCALE:GREGORIAN
METHOD:PUBLISH
X-WR-CALNAME:Warwickshire Geological Conservation Group (WGCG)
X-ORIGINAL-URL:https://www.wgcg.co.uk
X-WR-CALDESC:Events for Warwickshire Geological Conservation Group (WGCG)
REFRESH-INTERVAL;VALUE=DURATION:PT1H
X-Robots-Tag:noindex
X-PUBLISHED-TTL:PT1H
BEGIN:VTIMEZONE
TZID:Europe/London
BEGIN:DAYLIGHT
TZOFFSETFROM:+0000
TZOFFSETTO:+0100
TZNAME:BST
DTSTART:20220327T010000
END:DAYLIGHT
BEGIN:STANDARD
TZOFFSETFROM:+0100
TZOFFSETTO:+0000
TZNAME:GMT
DTSTART:20221030T010000
END:STANDARD
BEGIN:DAYLIGHT
TZOFFSETFROM:+0000
TZOFFSETTO:+0100
TZNAME:BST
DTSTART:20230326T010000
END:DAYLIGHT
BEGIN:STANDARD
TZOFFSETFROM:+0100
TZOFFSETTO:+0000
TZNAME:GMT
DTSTART:20231029T010000
END:STANDARD
BEGIN:DAYLIGHT
TZOFFSETFROM:+0000
TZOFFSETTO:+0100
TZNAME:BST
DTSTART:20240331T010000
END:DAYLIGHT
BEGIN:STANDARD
TZOFFSETFROM:+0100
TZOFFSETTO:+0000
TZNAME:GMT
DTSTART:20241027T010000
END:STANDARD
END:VTIMEZONE
BEGIN:VEVENT
DTSTART;TZID=Europe/London:20230819T140000
DTEND;TZID=Europe/London:20230819T170000
DTSTAMP:20260423T195524
CREATED:20230722T152847Z
LAST-MODIFIED:20230811T202852Z
UID:44728-1692453600-1692464400@www.wgcg.co.uk
SUMMARY:Field Trip: Hill Farm\, Maxstoke & Corley Rocks
DESCRIPTION:Field Trip leader will be Mike Allen or Stuart Burley. In addition to the main sites\, there is some Quaternary interest and the topographic expression of the Western Boundary Fault of the Coventry Horst is visible. More information will be posted as it becomes available. Please contact Julie Harrald to register interest julieharrald@googlemail.com
URL:https://www.wgcg.co.uk/event/field-trip-hill-farm-maxstoke-corley-rocks/
CATEGORIES:Field Trip
END:VEVENT
END:VCALENDAR