BEGIN:VCALENDAR
VERSION:2.0
PRODID:-//Warwickshire Geological Conservation Group (WGCG) - ECPv6.15.20//NONSGML v1.0//EN
CALSCALE:GREGORIAN
METHOD:PUBLISH
X-ORIGINAL-URL:https://www.wgcg.co.uk
X-WR-CALDESC:Events for Warwickshire Geological Conservation Group (WGCG)
REFRESH-INTERVAL;VALUE=DURATION:PT1H
X-Robots-Tag:noindex
X-PUBLISHED-TTL:PT1H
BEGIN:VTIMEZONE
TZID:Europe/London
BEGIN:DAYLIGHT
TZOFFSETFROM:+0000
TZOFFSETTO:+0100
TZNAME:BST
DTSTART:20230326T010000
END:DAYLIGHT
BEGIN:STANDARD
TZOFFSETFROM:+0100
TZOFFSETTO:+0000
TZNAME:GMT
DTSTART:20231029T010000
END:STANDARD
BEGIN:DAYLIGHT
TZOFFSETFROM:+0000
TZOFFSETTO:+0100
TZNAME:BST
DTSTART:20240331T010000
END:DAYLIGHT
BEGIN:STANDARD
TZOFFSETFROM:+0100
TZOFFSETTO:+0000
TZNAME:GMT
DTSTART:20241027T010000
END:STANDARD
BEGIN:DAYLIGHT
TZOFFSETFROM:+0000
TZOFFSETTO:+0100
TZNAME:BST
DTSTART:20250330T010000
END:DAYLIGHT
BEGIN:STANDARD
TZOFFSETFROM:+0100
TZOFFSETTO:+0000
TZNAME:GMT
DTSTART:20251026T010000
END:STANDARD
END:VTIMEZONE
BEGIN:VEVENT
DTSTART;TZID=Europe/London:20240217T100000
DTEND;TZID=Europe/London:20240217T150000
DTSTAMP:20260423T103037
CREATED:20240112T172233Z
LAST-MODIFIED:20240115T082231Z
UID:55780-1708164000-1708182000@www.wgcg.co.uk
SUMMARY:Minerals\, Rocks & Fossils Workshop-'Identifying Specimens'
DESCRIPTION:10:00 – 11:00 Introductionary presentations on the petrology and classifications of each of the major groups \n\n\n\n11:30 – 15:00 rotating sessions of practical hands on specimen inspection and identification. There will be 5 tables each exhibiting one of the following; Fossils\, Minerals\, Igneous rocks\, Sedimentary rocks or Metamorphic rocks. The WGCG specimen collection will be used for the purpose of this workshop. Participants are also invited to bring along one or two of their own specimens for discussion. \n\n\n\n15:00 Summary and wrap up \n\n\n\nThis event is for members and is strictly limited to 25 participants. Guests of members can also register. Pre registration is required. Download the registration form here. Please contact Julie Harald regarding any queries.
URL:https://www.wgcg.co.uk/event/minerals-rocks-fossils-workshop/
LOCATION:Kenilworth Senior Citizens Club\, Abbey End\, Kenilworth\, CV8 1QJ\, Abbey End\, Kenilworth\, CV8 1QJ
END:VEVENT
END:VCALENDAR