BEGIN:VCALENDAR
VERSION:2.0
PRODID:-//Warwickshire Geological Conservation Group (WGCG) - ECPv6.15.20//NONSGML v1.0//EN
CALSCALE:GREGORIAN
METHOD:PUBLISH
X-ORIGINAL-URL:https://www.wgcg.co.uk
X-WR-CALDESC:Events for Warwickshire Geological Conservation Group (WGCG)
REFRESH-INTERVAL;VALUE=DURATION:PT1H
X-Robots-Tag:noindex
X-PUBLISHED-TTL:PT1H
BEGIN:VTIMEZONE
TZID:Europe/London
BEGIN:DAYLIGHT
TZOFFSETFROM:+0000
TZOFFSETTO:+0100
TZNAME:BST
DTSTART:20230326T010000
END:DAYLIGHT
BEGIN:STANDARD
TZOFFSETFROM:+0100
TZOFFSETTO:+0000
TZNAME:GMT
DTSTART:20231029T010000
END:STANDARD
BEGIN:DAYLIGHT
TZOFFSETFROM:+0000
TZOFFSETTO:+0100
TZNAME:BST
DTSTART:20240331T010000
END:DAYLIGHT
BEGIN:STANDARD
TZOFFSETFROM:+0100
TZOFFSETTO:+0000
TZNAME:GMT
DTSTART:20241027T010000
END:STANDARD
BEGIN:DAYLIGHT
TZOFFSETFROM:+0000
TZOFFSETTO:+0100
TZNAME:BST
DTSTART:20250330T010000
END:DAYLIGHT
BEGIN:STANDARD
TZOFFSETFROM:+0100
TZOFFSETTO:+0000
TZNAME:GMT
DTSTART:20251026T010000
END:STANDARD
END:VTIMEZONE
BEGIN:VEVENT
DTSTART;TZID=Europe/London:20240526T120100
DTEND;TZID=Europe/London:20240526T133000
DTSTAMP:20260423T052846
CREATED:20240502T083835Z
LAST-MODIFIED:20240516T194531Z
UID:64250-1716724860-1716730200@www.wgcg.co.uk
SUMMARY:Deep Time Travel Through Old Kenilworth
DESCRIPTION:GeoWeek / Nature Week Event: Ray Pratt will lead a walk around old Kenilworth to discuss the variety of building stones used in the constuction and ornamentation of the buildings of this historic town. We will meet at 11:50 hrs at Abbey Fields car park for a 12:00 start. Under 16s must be accompanied by an adult. Registration required. \n\n\n\nOld Kenilworth urban geology walk participants May 2023
URL:https://www.wgcg.co.uk/event/deep-time-travel-through-old-kenilworth/
LOCATION:The car park – Abbey Fields\, Bridge Street\, Kenilworth\, CV8 1BN
CATEGORIES:Field Trip
END:VEVENT
END:VCALENDAR