BEGIN:VCALENDAR
VERSION:2.0
PRODID:-//Warwickshire Geological Conservation Group (WGCG) - ECPv6.15.20//NONSGML v1.0//EN
CALSCALE:GREGORIAN
METHOD:PUBLISH
X-WR-CALNAME:Warwickshire Geological Conservation Group (WGCG)
X-ORIGINAL-URL:https://www.wgcg.co.uk
X-WR-CALDESC:Events for Warwickshire Geological Conservation Group (WGCG)
REFRESH-INTERVAL;VALUE=DURATION:PT1H
X-Robots-Tag:noindex
X-PUBLISHED-TTL:PT1H
BEGIN:VTIMEZONE
TZID:Europe/London
BEGIN:DAYLIGHT
TZOFFSETFROM:+0000
TZOFFSETTO:+0100
TZNAME:BST
DTSTART:20230326T010000
END:DAYLIGHT
BEGIN:STANDARD
TZOFFSETFROM:+0100
TZOFFSETTO:+0000
TZNAME:GMT
DTSTART:20231029T010000
END:STANDARD
BEGIN:DAYLIGHT
TZOFFSETFROM:+0000
TZOFFSETTO:+0100
TZNAME:BST
DTSTART:20240331T010000
END:DAYLIGHT
BEGIN:STANDARD
TZOFFSETFROM:+0100
TZOFFSETTO:+0000
TZNAME:GMT
DTSTART:20241027T010000
END:STANDARD
BEGIN:DAYLIGHT
TZOFFSETFROM:+0000
TZOFFSETTO:+0100
TZNAME:BST
DTSTART:20250330T010000
END:DAYLIGHT
BEGIN:STANDARD
TZOFFSETFROM:+0100
TZOFFSETTO:+0000
TZNAME:GMT
DTSTART:20251026T010000
END:STANDARD
END:VTIMEZONE
BEGIN:VEVENT
DTSTART;TZID=Europe/London:20240919T193000
DTEND;TZID=Europe/London:20240919T210000
DTSTAMP:20260422T224728
CREATED:20240313T093636Z
LAST-MODIFIED:20240909T220017Z
UID:59448-1726774200-1726779600@www.wgcg.co.uk
SUMMARY:Bones and Badlands - Phil Manning
DESCRIPTION:Dinosaurs in some cases were awkwardly large. This led to some incredible adaptations to overcome the challenge of vast size but makes them particularly difficult to excavate and study! Some of the largest dinosaurs were the sauropods\, growing up to 37 metres in length…if we are to believe some of the skeletons in museums\, which are often based on partial/fragmentary remains. This talk will take you on an excavation to the Morrison Formation of Wyoming (USA) that has produced several moderate sized (20+ metres long) sauropod dinosaurs that were excavated over a period of five years. \n\n\n\nThis lecture will be offered in a hybrid format. Please join us in person if you can\, or register to attend virtually via zoom using the link below. \n\n\n\nRegister in advance for this meeting: https://us02web.zoom.us/meeting/register/tZclfuyvpj0rG9bz9c3CdYgbsOYq4nMyjxGr \n\n\n\n\nProfessor Phil Manning\n\n\n\nSauropod femur & Professor Phil Manning\, Wyoming 2017\n\n\n\n\n\n\nVenue:St Francis Of Assisi RC Church\, 110 Warwick Rd\, Kenilworth CV8 1HLhttps://maps.app.goo.gl/9CGWRNdgFfttDKtd7
URL:https://www.wgcg.co.uk/event/working-with-dinosaurs-phil-manning/
END:VEVENT
END:VCALENDAR