BEGIN:VCALENDAR
VERSION:2.0
PRODID:-//Warwickshire Geological Conservation Group (WGCG) - ECPv6.15.20//NONSGML v1.0//EN
CALSCALE:GREGORIAN
METHOD:PUBLISH
X-WR-CALNAME:Warwickshire Geological Conservation Group (WGCG)
X-ORIGINAL-URL:https://www.wgcg.co.uk
X-WR-CALDESC:Events for Warwickshire Geological Conservation Group (WGCG)
REFRESH-INTERVAL;VALUE=DURATION:PT1H
X-Robots-Tag:noindex
X-PUBLISHED-TTL:PT1H
BEGIN:VTIMEZONE
TZID:Europe/London
BEGIN:DAYLIGHT
TZOFFSETFROM:+0000
TZOFFSETTO:+0100
TZNAME:BST
DTSTART:20230326T010000
END:DAYLIGHT
BEGIN:STANDARD
TZOFFSETFROM:+0100
TZOFFSETTO:+0000
TZNAME:GMT
DTSTART:20231029T010000
END:STANDARD
BEGIN:DAYLIGHT
TZOFFSETFROM:+0000
TZOFFSETTO:+0100
TZNAME:BST
DTSTART:20240331T010000
END:DAYLIGHT
BEGIN:STANDARD
TZOFFSETFROM:+0100
TZOFFSETTO:+0000
TZNAME:GMT
DTSTART:20241027T010000
END:STANDARD
BEGIN:DAYLIGHT
TZOFFSETFROM:+0000
TZOFFSETTO:+0100
TZNAME:BST
DTSTART:20250330T010000
END:DAYLIGHT
BEGIN:STANDARD
TZOFFSETFROM:+0100
TZOFFSETTO:+0000
TZNAME:GMT
DTSTART:20251026T010000
END:STANDARD
END:VTIMEZONE
BEGIN:VEVENT
DTSTART;TZID=Europe/London:20240920T130000
DTEND;TZID=Europe/London:20240922T170000
DTSTAMP:20260422T224657
CREATED:20240127T211155Z
LAST-MODIFIED:20240312T112945Z
UID:56778-1726837200-1727024400@www.wgcg.co.uk
SUMMARY:Charnwood Forest Field Trip - Nick Chidlaw
DESCRIPTION:Note the date: Nick Chidlaw will lead a field weekend around Charnwood commencing Friday September 20 ending Sunday 22 September 2024. Base likely to be in Loughborough.  \n\n\n\nDetails to follow. \n\n\n\nPhoto by Rob Holloway
URL:https://www.wgcg.co.uk/event/charnwood-forest-field-trip/
END:VEVENT
END:VCALENDAR